BEGIN:VCALENDAR
VERSION:2.0
PRODID:-//Grace Church of Christ - ECPv6.15.12.2//NONSGML v1.0//EN
CALSCALE:GREGORIAN
METHOD:PUBLISH
X-WR-CALNAME:Grace Church of Christ
X-ORIGINAL-URL:https://gracechurchofchrist.faith
X-WR-CALDESC:Events for Grace Church of Christ
REFRESH-INTERVAL;VALUE=DURATION:PT1H
X-Robots-Tag:noindex
X-PUBLISHED-TTL:PT1H
BEGIN:VTIMEZONE
TZID:America/Halifax
BEGIN:DAYLIGHT
TZOFFSETFROM:-0400
TZOFFSETTO:-0300
TZNAME:ADT
DTSTART:20250309T060000
END:DAYLIGHT
BEGIN:STANDARD
TZOFFSETFROM:-0300
TZOFFSETTO:-0400
TZNAME:AST
DTSTART:20251102T050000
END:STANDARD
BEGIN:DAYLIGHT
TZOFFSETFROM:-0400
TZOFFSETTO:-0300
TZNAME:ADT
DTSTART:20260308T060000
END:DAYLIGHT
BEGIN:STANDARD
TZOFFSETFROM:-0300
TZOFFSETTO:-0400
TZNAME:AST
DTSTART:20261101T050000
END:STANDARD
BEGIN:DAYLIGHT
TZOFFSETFROM:-0400
TZOFFSETTO:-0300
TZNAME:ADT
DTSTART:20270314T060000
END:DAYLIGHT
BEGIN:STANDARD
TZOFFSETFROM:-0300
TZOFFSETTO:-0400
TZNAME:AST
DTSTART:20271107T050000
END:STANDARD
END:VTIMEZONE
BEGIN:VEVENT
DTSTART;TZID=America/Halifax:20260701T080000
DTEND;TZID=America/Halifax:20260701T083000
DTSTAMP:20260421T084701
CREATED:20250920T161616Z
LAST-MODIFIED:20251105T165757Z
UID:10000123-1782892800-1782894600@gracechurchofchrist.faith
SUMMARY:PodCast
DESCRIPTION:Inspired to Inspire you through the gospel of Jesus Christ\nPastor T. Vincent Bryant\nGrace Church of Christ
URL:https://gracechurchofchrist.faith/event/podcast/2026-07-01/
ATTACH;FMTTYPE=image/jpeg:https://gracechurchofchrist.faith/wp-content/uploads/2025/10/Screenshot-2025-10-06-114242.jpg
END:VEVENT
BEGIN:VEVENT
DTSTART;TZID=America/Halifax:20260703T080000
DTEND;TZID=America/Halifax:20260703T083000
DTSTAMP:20260421T084701
CREATED:20250920T161616Z
LAST-MODIFIED:20251105T165757Z
UID:10000124-1783065600-1783067400@gracechurchofchrist.faith
SUMMARY:PodCast
DESCRIPTION:Inspired to Inspire you through the gospel of Jesus Christ\nPastor T. Vincent Bryant\nGrace Church of Christ
URL:https://gracechurchofchrist.faith/event/podcast/2026-07-03/
ATTACH;FMTTYPE=image/jpeg:https://gracechurchofchrist.faith/wp-content/uploads/2025/10/Screenshot-2025-10-06-114242.jpg
END:VEVENT
BEGIN:VEVENT
DTSTART;TZID=America/Halifax:20260706T080000
DTEND;TZID=America/Halifax:20260706T083000
DTSTAMP:20260421T084701
CREATED:20250920T161616Z
LAST-MODIFIED:20251105T165757Z
UID:10000125-1783324800-1783326600@gracechurchofchrist.faith
SUMMARY:PodCast
DESCRIPTION:Inspired to Inspire you through the gospel of Jesus Christ\nPastor T. Vincent Bryant\nGrace Church of Christ
URL:https://gracechurchofchrist.faith/event/podcast/2026-07-06/
ATTACH;FMTTYPE=image/jpeg:https://gracechurchofchrist.faith/wp-content/uploads/2025/10/Screenshot-2025-10-06-114242.jpg
END:VEVENT
BEGIN:VEVENT
DTSTART;TZID=America/Halifax:20260708T080000
DTEND;TZID=America/Halifax:20260708T083000
DTSTAMP:20260421T084701
CREATED:20250920T161616Z
LAST-MODIFIED:20251105T165757Z
UID:10000126-1783497600-1783499400@gracechurchofchrist.faith
SUMMARY:PodCast
DESCRIPTION:Inspired to Inspire you through the gospel of Jesus Christ\nPastor T. Vincent Bryant\nGrace Church of Christ
URL:https://gracechurchofchrist.faith/event/podcast/2026-07-08/
ATTACH;FMTTYPE=image/jpeg:https://gracechurchofchrist.faith/wp-content/uploads/2025/10/Screenshot-2025-10-06-114242.jpg
END:VEVENT
BEGIN:VEVENT
DTSTART;TZID=America/Halifax:20260710T080000
DTEND;TZID=America/Halifax:20260710T083000
DTSTAMP:20260421T084701
CREATED:20250920T161616Z
LAST-MODIFIED:20251105T165757Z
UID:10000127-1783670400-1783672200@gracechurchofchrist.faith
SUMMARY:PodCast
DESCRIPTION:Inspired to Inspire you through the gospel of Jesus Christ\nPastor T. Vincent Bryant\nGrace Church of Christ
URL:https://gracechurchofchrist.faith/event/podcast/2026-07-10/
ATTACH;FMTTYPE=image/jpeg:https://gracechurchofchrist.faith/wp-content/uploads/2025/10/Screenshot-2025-10-06-114242.jpg
END:VEVENT
BEGIN:VEVENT
DTSTART;TZID=America/Halifax:20260713T080000
DTEND;TZID=America/Halifax:20260713T083000
DTSTAMP:20260421T084701
CREATED:20250920T161616Z
LAST-MODIFIED:20251105T165757Z
UID:10000128-1783929600-1783931400@gracechurchofchrist.faith
SUMMARY:PodCast
DESCRIPTION:Inspired to Inspire you through the gospel of Jesus Christ\nPastor T. Vincent Bryant\nGrace Church of Christ
URL:https://gracechurchofchrist.faith/event/podcast/2026-07-13/
ATTACH;FMTTYPE=image/jpeg:https://gracechurchofchrist.faith/wp-content/uploads/2025/10/Screenshot-2025-10-06-114242.jpg
END:VEVENT
BEGIN:VEVENT
DTSTART;TZID=America/Halifax:20260715T080000
DTEND;TZID=America/Halifax:20260715T083000
DTSTAMP:20260421T084701
CREATED:20250920T161616Z
LAST-MODIFIED:20251105T165757Z
UID:10000129-1784102400-1784104200@gracechurchofchrist.faith
SUMMARY:PodCast
DESCRIPTION:Inspired to Inspire you through the gospel of Jesus Christ\nPastor T. Vincent Bryant\nGrace Church of Christ
URL:https://gracechurchofchrist.faith/event/podcast/2026-07-15/
ATTACH;FMTTYPE=image/jpeg:https://gracechurchofchrist.faith/wp-content/uploads/2025/10/Screenshot-2025-10-06-114242.jpg
END:VEVENT
BEGIN:VEVENT
DTSTART;TZID=America/Halifax:20260717T080000
DTEND;TZID=America/Halifax:20260717T083000
DTSTAMP:20260421T084701
CREATED:20250920T161616Z
LAST-MODIFIED:20251105T165757Z
UID:10000130-1784275200-1784277000@gracechurchofchrist.faith
SUMMARY:PodCast
DESCRIPTION:Inspired to Inspire you through the gospel of Jesus Christ\nPastor T. Vincent Bryant\nGrace Church of Christ
URL:https://gracechurchofchrist.faith/event/podcast/2026-07-17/
ATTACH;FMTTYPE=image/jpeg:https://gracechurchofchrist.faith/wp-content/uploads/2025/10/Screenshot-2025-10-06-114242.jpg
END:VEVENT
BEGIN:VEVENT
DTSTART;TZID=America/Halifax:20260720T080000
DTEND;TZID=America/Halifax:20260720T083000
DTSTAMP:20260421T084701
CREATED:20250920T161616Z
LAST-MODIFIED:20251105T165757Z
UID:10000131-1784534400-1784536200@gracechurchofchrist.faith
SUMMARY:PodCast
DESCRIPTION:Inspired to Inspire you through the gospel of Jesus Christ\nPastor T. Vincent Bryant\nGrace Church of Christ
URL:https://gracechurchofchrist.faith/event/podcast/2026-07-20/
ATTACH;FMTTYPE=image/jpeg:https://gracechurchofchrist.faith/wp-content/uploads/2025/10/Screenshot-2025-10-06-114242.jpg
END:VEVENT
BEGIN:VEVENT
DTSTART;TZID=America/Halifax:20260722T080000
DTEND;TZID=America/Halifax:20260722T083000
DTSTAMP:20260421T084701
CREATED:20250920T161616Z
LAST-MODIFIED:20251105T165757Z
UID:10000132-1784707200-1784709000@gracechurchofchrist.faith
SUMMARY:PodCast
DESCRIPTION:Inspired to Inspire you through the gospel of Jesus Christ\nPastor T. Vincent Bryant\nGrace Church of Christ
URL:https://gracechurchofchrist.faith/event/podcast/2026-07-22/
ATTACH;FMTTYPE=image/jpeg:https://gracechurchofchrist.faith/wp-content/uploads/2025/10/Screenshot-2025-10-06-114242.jpg
END:VEVENT
BEGIN:VEVENT
DTSTART;TZID=America/Halifax:20260724T080000
DTEND;TZID=America/Halifax:20260724T083000
DTSTAMP:20260421T084701
CREATED:20250920T161616Z
LAST-MODIFIED:20251105T165757Z
UID:10000133-1784880000-1784881800@gracechurchofchrist.faith
SUMMARY:PodCast
DESCRIPTION:Inspired to Inspire you through the gospel of Jesus Christ\nPastor T. Vincent Bryant\nGrace Church of Christ
URL:https://gracechurchofchrist.faith/event/podcast/2026-07-24/
ATTACH;FMTTYPE=image/jpeg:https://gracechurchofchrist.faith/wp-content/uploads/2025/10/Screenshot-2025-10-06-114242.jpg
END:VEVENT
BEGIN:VEVENT
DTSTART;TZID=America/Halifax:20260727T080000
DTEND;TZID=America/Halifax:20260727T083000
DTSTAMP:20260421T084701
CREATED:20250920T161616Z
LAST-MODIFIED:20251105T165757Z
UID:10000134-1785139200-1785141000@gracechurchofchrist.faith
SUMMARY:PodCast
DESCRIPTION:Inspired to Inspire you through the gospel of Jesus Christ\nPastor T. Vincent Bryant\nGrace Church of Christ
URL:https://gracechurchofchrist.faith/event/podcast/2026-07-27/
ATTACH;FMTTYPE=image/jpeg:https://gracechurchofchrist.faith/wp-content/uploads/2025/10/Screenshot-2025-10-06-114242.jpg
END:VEVENT
BEGIN:VEVENT
DTSTART;TZID=America/Halifax:20260729T080000
DTEND;TZID=America/Halifax:20260729T083000
DTSTAMP:20260421T084701
CREATED:20250920T161616Z
LAST-MODIFIED:20251105T165757Z
UID:10000135-1785312000-1785313800@gracechurchofchrist.faith
SUMMARY:PodCast
DESCRIPTION:Inspired to Inspire you through the gospel of Jesus Christ\nPastor T. Vincent Bryant\nGrace Church of Christ
URL:https://gracechurchofchrist.faith/event/podcast/2026-07-29/
ATTACH;FMTTYPE=image/jpeg:https://gracechurchofchrist.faith/wp-content/uploads/2025/10/Screenshot-2025-10-06-114242.jpg
END:VEVENT
BEGIN:VEVENT
DTSTART;TZID=America/Halifax:20260731T080000
DTEND;TZID=America/Halifax:20260731T083000
DTSTAMP:20260421T084701
CREATED:20250920T161616Z
LAST-MODIFIED:20251105T165757Z
UID:10000136-1785484800-1785486600@gracechurchofchrist.faith
SUMMARY:PodCast
DESCRIPTION:Inspired to Inspire you through the gospel of Jesus Christ\nPastor T. Vincent Bryant\nGrace Church of Christ
URL:https://gracechurchofchrist.faith/event/podcast/2026-07-31/
ATTACH;FMTTYPE=image/jpeg:https://gracechurchofchrist.faith/wp-content/uploads/2025/10/Screenshot-2025-10-06-114242.jpg
END:VEVENT
END:VCALENDAR