BEGIN:VCALENDAR
VERSION:2.0
PRODID:-//Grace Church of Christ - ECPv6.15.12.2//NONSGML v1.0//EN
CALSCALE:GREGORIAN
METHOD:PUBLISH
X-ORIGINAL-URL:https://gracechurchofchrist.faith
X-WR-CALDESC:Events for Grace Church of Christ
REFRESH-INTERVAL;VALUE=DURATION:PT1H
X-Robots-Tag:noindex
X-PUBLISHED-TTL:PT1H
BEGIN:VTIMEZONE
TZID:America/Halifax
BEGIN:DAYLIGHT
TZOFFSETFROM:-0400
TZOFFSETTO:-0300
TZNAME:ADT
DTSTART:20250309T060000
END:DAYLIGHT
BEGIN:STANDARD
TZOFFSETFROM:-0300
TZOFFSETTO:-0400
TZNAME:AST
DTSTART:20251102T050000
END:STANDARD
BEGIN:DAYLIGHT
TZOFFSETFROM:-0400
TZOFFSETTO:-0300
TZNAME:ADT
DTSTART:20260308T060000
END:DAYLIGHT
BEGIN:STANDARD
TZOFFSETFROM:-0300
TZOFFSETTO:-0400
TZNAME:AST
DTSTART:20261101T050000
END:STANDARD
BEGIN:DAYLIGHT
TZOFFSETFROM:-0400
TZOFFSETTO:-0300
TZNAME:ADT
DTSTART:20270314T060000
END:DAYLIGHT
BEGIN:STANDARD
TZOFFSETFROM:-0300
TZOFFSETTO:-0400
TZNAME:AST
DTSTART:20271107T050000
END:STANDARD
END:VTIMEZONE
BEGIN:VEVENT
DTSTART;TZID=America/Halifax:20260601T080000
DTEND;TZID=America/Halifax:20260601T083000
DTSTAMP:20260421T072127
CREATED:20250920T161616Z
LAST-MODIFIED:20251105T165757Z
UID:10000110-1780300800-1780302600@gracechurchofchrist.faith
SUMMARY:PodCast
DESCRIPTION:Inspired to Inspire you through the gospel of Jesus Christ\nPastor T. Vincent Bryant\nGrace Church of Christ
URL:https://gracechurchofchrist.faith/event/podcast/2026-06-01/
ATTACH;FMTTYPE=image/jpeg:https://gracechurchofchrist.faith/wp-content/uploads/2025/10/Screenshot-2025-10-06-114242.jpg
END:VEVENT
BEGIN:VEVENT
DTSTART;TZID=America/Halifax:20260603T080000
DTEND;TZID=America/Halifax:20260603T083000
DTSTAMP:20260421T072127
CREATED:20250920T161616Z
LAST-MODIFIED:20251105T165757Z
UID:10000111-1780473600-1780475400@gracechurchofchrist.faith
SUMMARY:PodCast
DESCRIPTION:Inspired to Inspire you through the gospel of Jesus Christ\nPastor T. Vincent Bryant\nGrace Church of Christ
URL:https://gracechurchofchrist.faith/event/podcast/2026-06-03/
ATTACH;FMTTYPE=image/jpeg:https://gracechurchofchrist.faith/wp-content/uploads/2025/10/Screenshot-2025-10-06-114242.jpg
END:VEVENT
BEGIN:VEVENT
DTSTART;TZID=America/Halifax:20260605T080000
DTEND;TZID=America/Halifax:20260605T083000
DTSTAMP:20260421T072127
CREATED:20250920T161616Z
LAST-MODIFIED:20251105T165757Z
UID:10000112-1780646400-1780648200@gracechurchofchrist.faith
SUMMARY:PodCast
DESCRIPTION:Inspired to Inspire you through the gospel of Jesus Christ\nPastor T. Vincent Bryant\nGrace Church of Christ
URL:https://gracechurchofchrist.faith/event/podcast/2026-06-05/
ATTACH;FMTTYPE=image/jpeg:https://gracechurchofchrist.faith/wp-content/uploads/2025/10/Screenshot-2025-10-06-114242.jpg
END:VEVENT
BEGIN:VEVENT
DTSTART;TZID=America/Halifax:20260608T080000
DTEND;TZID=America/Halifax:20260608T083000
DTSTAMP:20260421T072127
CREATED:20250920T161616Z
LAST-MODIFIED:20251105T165757Z
UID:10000113-1780905600-1780907400@gracechurchofchrist.faith
SUMMARY:PodCast
DESCRIPTION:Inspired to Inspire you through the gospel of Jesus Christ\nPastor T. Vincent Bryant\nGrace Church of Christ
URL:https://gracechurchofchrist.faith/event/podcast/2026-06-08/
ATTACH;FMTTYPE=image/jpeg:https://gracechurchofchrist.faith/wp-content/uploads/2025/10/Screenshot-2025-10-06-114242.jpg
END:VEVENT
BEGIN:VEVENT
DTSTART;TZID=America/Halifax:20260610T080000
DTEND;TZID=America/Halifax:20260610T083000
DTSTAMP:20260421T072127
CREATED:20250920T161616Z
LAST-MODIFIED:20251105T165757Z
UID:10000114-1781078400-1781080200@gracechurchofchrist.faith
SUMMARY:PodCast
DESCRIPTION:Inspired to Inspire you through the gospel of Jesus Christ\nPastor T. Vincent Bryant\nGrace Church of Christ
URL:https://gracechurchofchrist.faith/event/podcast/2026-06-10/
ATTACH;FMTTYPE=image/jpeg:https://gracechurchofchrist.faith/wp-content/uploads/2025/10/Screenshot-2025-10-06-114242.jpg
END:VEVENT
BEGIN:VEVENT
DTSTART;TZID=America/Halifax:20260612T080000
DTEND;TZID=America/Halifax:20260612T083000
DTSTAMP:20260421T072127
CREATED:20250920T161616Z
LAST-MODIFIED:20251105T165757Z
UID:10000115-1781251200-1781253000@gracechurchofchrist.faith
SUMMARY:PodCast
DESCRIPTION:Inspired to Inspire you through the gospel of Jesus Christ\nPastor T. Vincent Bryant\nGrace Church of Christ
URL:https://gracechurchofchrist.faith/event/podcast/2026-06-12/
ATTACH;FMTTYPE=image/jpeg:https://gracechurchofchrist.faith/wp-content/uploads/2025/10/Screenshot-2025-10-06-114242.jpg
END:VEVENT
BEGIN:VEVENT
DTSTART;TZID=America/Halifax:20260615T080000
DTEND;TZID=America/Halifax:20260615T083000
DTSTAMP:20260421T072127
CREATED:20250920T161616Z
LAST-MODIFIED:20251105T165757Z
UID:10000116-1781510400-1781512200@gracechurchofchrist.faith
SUMMARY:PodCast
DESCRIPTION:Inspired to Inspire you through the gospel of Jesus Christ\nPastor T. Vincent Bryant\nGrace Church of Christ
URL:https://gracechurchofchrist.faith/event/podcast/2026-06-15/
ATTACH;FMTTYPE=image/jpeg:https://gracechurchofchrist.faith/wp-content/uploads/2025/10/Screenshot-2025-10-06-114242.jpg
END:VEVENT
BEGIN:VEVENT
DTSTART;TZID=America/Halifax:20260617T080000
DTEND;TZID=America/Halifax:20260617T083000
DTSTAMP:20260421T072127
CREATED:20250920T161616Z
LAST-MODIFIED:20251105T165757Z
UID:10000117-1781683200-1781685000@gracechurchofchrist.faith
SUMMARY:PodCast
DESCRIPTION:Inspired to Inspire you through the gospel of Jesus Christ\nPastor T. Vincent Bryant\nGrace Church of Christ
URL:https://gracechurchofchrist.faith/event/podcast/2026-06-17/
ATTACH;FMTTYPE=image/jpeg:https://gracechurchofchrist.faith/wp-content/uploads/2025/10/Screenshot-2025-10-06-114242.jpg
END:VEVENT
BEGIN:VEVENT
DTSTART;TZID=America/Halifax:20260619T080000
DTEND;TZID=America/Halifax:20260619T083000
DTSTAMP:20260421T072127
CREATED:20250920T161616Z
LAST-MODIFIED:20251105T165757Z
UID:10000118-1781856000-1781857800@gracechurchofchrist.faith
SUMMARY:PodCast
DESCRIPTION:Inspired to Inspire you through the gospel of Jesus Christ\nPastor T. Vincent Bryant\nGrace Church of Christ
URL:https://gracechurchofchrist.faith/event/podcast/2026-06-19/
ATTACH;FMTTYPE=image/jpeg:https://gracechurchofchrist.faith/wp-content/uploads/2025/10/Screenshot-2025-10-06-114242.jpg
END:VEVENT
BEGIN:VEVENT
DTSTART;TZID=America/Halifax:20260622T080000
DTEND;TZID=America/Halifax:20260622T083000
DTSTAMP:20260421T072127
CREATED:20250920T161616Z
LAST-MODIFIED:20251105T165757Z
UID:10000119-1782115200-1782117000@gracechurchofchrist.faith
SUMMARY:PodCast
DESCRIPTION:Inspired to Inspire you through the gospel of Jesus Christ\nPastor T. Vincent Bryant\nGrace Church of Christ
URL:https://gracechurchofchrist.faith/event/podcast/2026-06-22/
ATTACH;FMTTYPE=image/jpeg:https://gracechurchofchrist.faith/wp-content/uploads/2025/10/Screenshot-2025-10-06-114242.jpg
END:VEVENT
BEGIN:VEVENT
DTSTART;TZID=America/Halifax:20260624T080000
DTEND;TZID=America/Halifax:20260624T083000
DTSTAMP:20260421T072127
CREATED:20250920T161616Z
LAST-MODIFIED:20251105T165757Z
UID:10000120-1782288000-1782289800@gracechurchofchrist.faith
SUMMARY:PodCast
DESCRIPTION:Inspired to Inspire you through the gospel of Jesus Christ\nPastor T. Vincent Bryant\nGrace Church of Christ
URL:https://gracechurchofchrist.faith/event/podcast/2026-06-24/
ATTACH;FMTTYPE=image/jpeg:https://gracechurchofchrist.faith/wp-content/uploads/2025/10/Screenshot-2025-10-06-114242.jpg
END:VEVENT
BEGIN:VEVENT
DTSTART;TZID=America/Halifax:20260626T080000
DTEND;TZID=America/Halifax:20260626T083000
DTSTAMP:20260421T072127
CREATED:20250920T161616Z
LAST-MODIFIED:20251105T165757Z
UID:10000121-1782460800-1782462600@gracechurchofchrist.faith
SUMMARY:PodCast
DESCRIPTION:Inspired to Inspire you through the gospel of Jesus Christ\nPastor T. Vincent Bryant\nGrace Church of Christ
URL:https://gracechurchofchrist.faith/event/podcast/2026-06-26/
ATTACH;FMTTYPE=image/jpeg:https://gracechurchofchrist.faith/wp-content/uploads/2025/10/Screenshot-2025-10-06-114242.jpg
END:VEVENT
BEGIN:VEVENT
DTSTART;TZID=America/Halifax:20260629T080000
DTEND;TZID=America/Halifax:20260629T083000
DTSTAMP:20260421T072127
CREATED:20250920T161616Z
LAST-MODIFIED:20251105T165757Z
UID:10000122-1782720000-1782721800@gracechurchofchrist.faith
SUMMARY:PodCast
DESCRIPTION:Inspired to Inspire you through the gospel of Jesus Christ\nPastor T. Vincent Bryant\nGrace Church of Christ
URL:https://gracechurchofchrist.faith/event/podcast/2026-06-29/
ATTACH;FMTTYPE=image/jpeg:https://gracechurchofchrist.faith/wp-content/uploads/2025/10/Screenshot-2025-10-06-114242.jpg
END:VEVENT
END:VCALENDAR