BEGIN:VCALENDAR
VERSION:2.0
PRODID:-//Grace Church of Christ - ECPv6.15.12.2//NONSGML v1.0//EN
CALSCALE:GREGORIAN
METHOD:PUBLISH
X-WR-CALNAME:Grace Church of Christ
X-ORIGINAL-URL:https://gracechurchofchrist.faith
X-WR-CALDESC:Events for Grace Church of Christ
REFRESH-INTERVAL;VALUE=DURATION:PT1H
X-Robots-Tag:noindex
X-PUBLISHED-TTL:PT1H
BEGIN:VTIMEZONE
TZID:America/Halifax
BEGIN:DAYLIGHT
TZOFFSETFROM:-0400
TZOFFSETTO:-0300
TZNAME:ADT
DTSTART:20240310T060000
END:DAYLIGHT
BEGIN:STANDARD
TZOFFSETFROM:-0300
TZOFFSETTO:-0400
TZNAME:AST
DTSTART:20241103T050000
END:STANDARD
BEGIN:DAYLIGHT
TZOFFSETFROM:-0400
TZOFFSETTO:-0300
TZNAME:ADT
DTSTART:20250309T060000
END:DAYLIGHT
BEGIN:STANDARD
TZOFFSETFROM:-0300
TZOFFSETTO:-0400
TZNAME:AST
DTSTART:20251102T050000
END:STANDARD
BEGIN:DAYLIGHT
TZOFFSETFROM:-0400
TZOFFSETTO:-0300
TZNAME:ADT
DTSTART:20260308T060000
END:DAYLIGHT
BEGIN:STANDARD
TZOFFSETFROM:-0300
TZOFFSETTO:-0400
TZNAME:AST
DTSTART:20261101T050000
END:STANDARD
BEGIN:DAYLIGHT
TZOFFSETFROM:-0400
TZOFFSETTO:-0300
TZNAME:ADT
DTSTART:20270314T060000
END:DAYLIGHT
BEGIN:STANDARD
TZOFFSETFROM:-0300
TZOFFSETTO:-0400
TZNAME:AST
DTSTART:20271107T050000
END:STANDARD
END:VTIMEZONE
BEGIN:VEVENT
DTSTART;TZID=America/Halifax:20260123T080000
DTEND;TZID=America/Halifax:20260123T083000
DTSTAMP:20260421T221708
CREATED:20250920T161616Z
LAST-MODIFIED:20251105T165757Z
UID:10000055-1769155200-1769157000@gracechurchofchrist.faith
SUMMARY:PodCast
DESCRIPTION:Inspired to Inspire you through the gospel of Jesus Christ\nPastor T. Vincent Bryant\nGrace Church of Christ
URL:https://gracechurchofchrist.faith/event/podcast/2026-01-23/
ATTACH;FMTTYPE=image/jpeg:https://gracechurchofchrist.faith/wp-content/uploads/2025/10/Screenshot-2025-10-06-114242.jpg
END:VEVENT
BEGIN:VEVENT
DTSTART;TZID=America/Halifax:20260121T080000
DTEND;TZID=America/Halifax:20260121T083000
DTSTAMP:20260421T221708
CREATED:20250920T161616Z
LAST-MODIFIED:20251105T165757Z
UID:10000054-1768982400-1768984200@gracechurchofchrist.faith
SUMMARY:PodCast
DESCRIPTION:Inspired to Inspire you through the gospel of Jesus Christ\nPastor T. Vincent Bryant\nGrace Church of Christ
URL:https://gracechurchofchrist.faith/event/podcast/2026-01-21/
ATTACH;FMTTYPE=image/jpeg:https://gracechurchofchrist.faith/wp-content/uploads/2025/10/Screenshot-2025-10-06-114242.jpg
END:VEVENT
BEGIN:VEVENT
DTSTART;TZID=America/Halifax:20260119T080000
DTEND;TZID=America/Halifax:20260119T083000
DTSTAMP:20260421T221708
CREATED:20250920T161616Z
LAST-MODIFIED:20251105T165757Z
UID:10000053-1768809600-1768811400@gracechurchofchrist.faith
SUMMARY:PodCast
DESCRIPTION:Inspired to Inspire you through the gospel of Jesus Christ\nPastor T. Vincent Bryant\nGrace Church of Christ
URL:https://gracechurchofchrist.faith/event/podcast/2026-01-19/
ATTACH;FMTTYPE=image/jpeg:https://gracechurchofchrist.faith/wp-content/uploads/2025/10/Screenshot-2025-10-06-114242.jpg
END:VEVENT
BEGIN:VEVENT
DTSTART;TZID=America/Halifax:20260116T080000
DTEND;TZID=America/Halifax:20260116T083000
DTSTAMP:20260421T221708
CREATED:20250920T161616Z
LAST-MODIFIED:20251105T165757Z
UID:10000052-1768550400-1768552200@gracechurchofchrist.faith
SUMMARY:PodCast
DESCRIPTION:Inspired to Inspire you through the gospel of Jesus Christ\nPastor T. Vincent Bryant\nGrace Church of Christ
URL:https://gracechurchofchrist.faith/event/podcast/2026-01-16/
ATTACH;FMTTYPE=image/jpeg:https://gracechurchofchrist.faith/wp-content/uploads/2025/10/Screenshot-2025-10-06-114242.jpg
END:VEVENT
BEGIN:VEVENT
DTSTART;TZID=America/Halifax:20260114T080000
DTEND;TZID=America/Halifax:20260114T083000
DTSTAMP:20260421T221708
CREATED:20250920T161616Z
LAST-MODIFIED:20251105T165757Z
UID:10000051-1768377600-1768379400@gracechurchofchrist.faith
SUMMARY:PodCast
DESCRIPTION:Inspired to Inspire you through the gospel of Jesus Christ\nPastor T. Vincent Bryant\nGrace Church of Christ
URL:https://gracechurchofchrist.faith/event/podcast/2026-01-14/
ATTACH;FMTTYPE=image/jpeg:https://gracechurchofchrist.faith/wp-content/uploads/2025/10/Screenshot-2025-10-06-114242.jpg
END:VEVENT
BEGIN:VEVENT
DTSTART;TZID=America/Halifax:20260112T080000
DTEND;TZID=America/Halifax:20260112T083000
DTSTAMP:20260421T221708
CREATED:20250920T161616Z
LAST-MODIFIED:20251105T165757Z
UID:10000050-1768204800-1768206600@gracechurchofchrist.faith
SUMMARY:PodCast
DESCRIPTION:Inspired to Inspire you through the gospel of Jesus Christ\nPastor T. Vincent Bryant\nGrace Church of Christ
URL:https://gracechurchofchrist.faith/event/podcast/2026-01-12/
ATTACH;FMTTYPE=image/jpeg:https://gracechurchofchrist.faith/wp-content/uploads/2025/10/Screenshot-2025-10-06-114242.jpg
END:VEVENT
BEGIN:VEVENT
DTSTART;TZID=America/Halifax:20260109T080000
DTEND;TZID=America/Halifax:20260109T083000
DTSTAMP:20260421T221708
CREATED:20250920T161616Z
LAST-MODIFIED:20251105T165757Z
UID:10000049-1767945600-1767947400@gracechurchofchrist.faith
SUMMARY:PodCast
DESCRIPTION:Inspired to Inspire you through the gospel of Jesus Christ\nPastor T. Vincent Bryant\nGrace Church of Christ
URL:https://gracechurchofchrist.faith/event/podcast/2026-01-09/
ATTACH;FMTTYPE=image/jpeg:https://gracechurchofchrist.faith/wp-content/uploads/2025/10/Screenshot-2025-10-06-114242.jpg
END:VEVENT
BEGIN:VEVENT
DTSTART;TZID=America/Halifax:20260107T080000
DTEND;TZID=America/Halifax:20260107T083000
DTSTAMP:20260421T221708
CREATED:20250920T161616Z
LAST-MODIFIED:20251105T165757Z
UID:10000048-1767772800-1767774600@gracechurchofchrist.faith
SUMMARY:PodCast
DESCRIPTION:Inspired to Inspire you through the gospel of Jesus Christ\nPastor T. Vincent Bryant\nGrace Church of Christ
URL:https://gracechurchofchrist.faith/event/podcast/2026-01-07/
ATTACH;FMTTYPE=image/jpeg:https://gracechurchofchrist.faith/wp-content/uploads/2025/10/Screenshot-2025-10-06-114242.jpg
END:VEVENT
BEGIN:VEVENT
DTSTART;TZID=America/Halifax:20260105T080000
DTEND;TZID=America/Halifax:20260105T083000
DTSTAMP:20260421T221708
CREATED:20250920T161616Z
LAST-MODIFIED:20251105T165757Z
UID:10000047-1767600000-1767601800@gracechurchofchrist.faith
SUMMARY:PodCast
DESCRIPTION:Inspired to Inspire you through the gospel of Jesus Christ\nPastor T. Vincent Bryant\nGrace Church of Christ
URL:https://gracechurchofchrist.faith/event/podcast/2026-01-05/
ATTACH;FMTTYPE=image/jpeg:https://gracechurchofchrist.faith/wp-content/uploads/2025/10/Screenshot-2025-10-06-114242.jpg
END:VEVENT
BEGIN:VEVENT
DTSTART;TZID=America/Halifax:20260102T080000
DTEND;TZID=America/Halifax:20260102T083000
DTSTAMP:20260421T221708
CREATED:20250920T161616Z
LAST-MODIFIED:20251105T165757Z
UID:10000046-1767340800-1767342600@gracechurchofchrist.faith
SUMMARY:PodCast
DESCRIPTION:Inspired to Inspire you through the gospel of Jesus Christ\nPastor T. Vincent Bryant\nGrace Church of Christ
URL:https://gracechurchofchrist.faith/event/podcast/2026-01-02/
ATTACH;FMTTYPE=image/jpeg:https://gracechurchofchrist.faith/wp-content/uploads/2025/10/Screenshot-2025-10-06-114242.jpg
END:VEVENT
BEGIN:VEVENT
DTSTART;TZID=America/Halifax:20251231T080000
DTEND;TZID=America/Halifax:20251231T083000
DTSTAMP:20260421T221708
CREATED:20250920T161616Z
LAST-MODIFIED:20251105T165757Z
UID:10000045-1767168000-1767169800@gracechurchofchrist.faith
SUMMARY:PodCast
DESCRIPTION:Inspired to Inspire you through the gospel of Jesus Christ\nPastor T. Vincent Bryant\nGrace Church of Christ
URL:https://gracechurchofchrist.faith/event/podcast/2025-12-31/
ATTACH;FMTTYPE=image/jpeg:https://gracechurchofchrist.faith/wp-content/uploads/2025/10/Screenshot-2025-10-06-114242.jpg
END:VEVENT
BEGIN:VEVENT
DTSTART;TZID=America/Halifax:20251229T080000
DTEND;TZID=America/Halifax:20251229T083000
DTSTAMP:20260421T221708
CREATED:20250920T161616Z
LAST-MODIFIED:20251105T165757Z
UID:10000044-1766995200-1766997000@gracechurchofchrist.faith
SUMMARY:PodCast
DESCRIPTION:Inspired to Inspire you through the gospel of Jesus Christ\nPastor T. Vincent Bryant\nGrace Church of Christ
URL:https://gracechurchofchrist.faith/event/podcast/2025-12-29/
ATTACH;FMTTYPE=image/jpeg:https://gracechurchofchrist.faith/wp-content/uploads/2025/10/Screenshot-2025-10-06-114242.jpg
END:VEVENT
BEGIN:VEVENT
DTSTART;TZID=America/Halifax:20251226T080000
DTEND;TZID=America/Halifax:20251226T083000
DTSTAMP:20260421T221708
CREATED:20250920T161616Z
LAST-MODIFIED:20251105T165757Z
UID:10000043-1766736000-1766737800@gracechurchofchrist.faith
SUMMARY:PodCast
DESCRIPTION:Inspired to Inspire you through the gospel of Jesus Christ\nPastor T. Vincent Bryant\nGrace Church of Christ
URL:https://gracechurchofchrist.faith/event/podcast/2025-12-26/
ATTACH;FMTTYPE=image/jpeg:https://gracechurchofchrist.faith/wp-content/uploads/2025/10/Screenshot-2025-10-06-114242.jpg
END:VEVENT
BEGIN:VEVENT
DTSTART;TZID=America/Halifax:20251224T080000
DTEND;TZID=America/Halifax:20251224T083000
DTSTAMP:20260421T221708
CREATED:20250920T161616Z
LAST-MODIFIED:20251105T165757Z
UID:10000042-1766563200-1766565000@gracechurchofchrist.faith
SUMMARY:PodCast
DESCRIPTION:Inspired to Inspire you through the gospel of Jesus Christ\nPastor T. Vincent Bryant\nGrace Church of Christ
URL:https://gracechurchofchrist.faith/event/podcast/2025-12-24/
ATTACH;FMTTYPE=image/jpeg:https://gracechurchofchrist.faith/wp-content/uploads/2025/10/Screenshot-2025-10-06-114242.jpg
END:VEVENT
BEGIN:VEVENT
DTSTART;TZID=America/Halifax:20251222T080000
DTEND;TZID=America/Halifax:20251222T083000
DTSTAMP:20260421T221708
CREATED:20250920T161616Z
LAST-MODIFIED:20251105T165757Z
UID:10000041-1766390400-1766392200@gracechurchofchrist.faith
SUMMARY:PodCast
DESCRIPTION:Inspired to Inspire you through the gospel of Jesus Christ\nPastor T. Vincent Bryant\nGrace Church of Christ
URL:https://gracechurchofchrist.faith/event/podcast/2025-12-22/
ATTACH;FMTTYPE=image/jpeg:https://gracechurchofchrist.faith/wp-content/uploads/2025/10/Screenshot-2025-10-06-114242.jpg
END:VEVENT
BEGIN:VEVENT
DTSTART;TZID=America/Halifax:20251219T080000
DTEND;TZID=America/Halifax:20251219T083000
DTSTAMP:20260421T221708
CREATED:20250920T161616Z
LAST-MODIFIED:20251105T165757Z
UID:10000040-1766131200-1766133000@gracechurchofchrist.faith
SUMMARY:PodCast
DESCRIPTION:Inspired to Inspire you through the gospel of Jesus Christ\nPastor T. Vincent Bryant\nGrace Church of Christ
URL:https://gracechurchofchrist.faith/event/podcast/2025-12-19/
ATTACH;FMTTYPE=image/jpeg:https://gracechurchofchrist.faith/wp-content/uploads/2025/10/Screenshot-2025-10-06-114242.jpg
END:VEVENT
BEGIN:VEVENT
DTSTART;TZID=America/Halifax:20251217T080000
DTEND;TZID=America/Halifax:20251217T083000
DTSTAMP:20260421T221708
CREATED:20250920T161616Z
LAST-MODIFIED:20251105T165757Z
UID:10000039-1765958400-1765960200@gracechurchofchrist.faith
SUMMARY:PodCast
DESCRIPTION:Inspired to Inspire you through the gospel of Jesus Christ\nPastor T. Vincent Bryant\nGrace Church of Christ
URL:https://gracechurchofchrist.faith/event/podcast/2025-12-17/
ATTACH;FMTTYPE=image/jpeg:https://gracechurchofchrist.faith/wp-content/uploads/2025/10/Screenshot-2025-10-06-114242.jpg
END:VEVENT
BEGIN:VEVENT
DTSTART;TZID=America/Halifax:20251215T080000
DTEND;TZID=America/Halifax:20251215T083000
DTSTAMP:20260421T221708
CREATED:20250920T161616Z
LAST-MODIFIED:20251105T165757Z
UID:10000038-1765785600-1765787400@gracechurchofchrist.faith
SUMMARY:PodCast
DESCRIPTION:Inspired to Inspire you through the gospel of Jesus Christ\nPastor T. Vincent Bryant\nGrace Church of Christ
URL:https://gracechurchofchrist.faith/event/podcast/2025-12-15/
ATTACH;FMTTYPE=image/jpeg:https://gracechurchofchrist.faith/wp-content/uploads/2025/10/Screenshot-2025-10-06-114242.jpg
END:VEVENT
BEGIN:VEVENT
DTSTART;TZID=America/Halifax:20251212T080000
DTEND;TZID=America/Halifax:20251212T083000
DTSTAMP:20260421T221708
CREATED:20250920T161616Z
LAST-MODIFIED:20251105T165757Z
UID:10000037-1765526400-1765528200@gracechurchofchrist.faith
SUMMARY:PodCast
DESCRIPTION:Inspired to Inspire you through the gospel of Jesus Christ\nPastor T. Vincent Bryant\nGrace Church of Christ
URL:https://gracechurchofchrist.faith/event/podcast/2025-12-12/
ATTACH;FMTTYPE=image/jpeg:https://gracechurchofchrist.faith/wp-content/uploads/2025/10/Screenshot-2025-10-06-114242.jpg
END:VEVENT
BEGIN:VEVENT
DTSTART;TZID=America/Halifax:20251210T080000
DTEND;TZID=America/Halifax:20251210T083000
DTSTAMP:20260421T221708
CREATED:20250920T161616Z
LAST-MODIFIED:20251105T165757Z
UID:10000036-1765353600-1765355400@gracechurchofchrist.faith
SUMMARY:PodCast
DESCRIPTION:Inspired to Inspire you through the gospel of Jesus Christ\nPastor T. Vincent Bryant\nGrace Church of Christ
URL:https://gracechurchofchrist.faith/event/podcast/2025-12-10/
ATTACH;FMTTYPE=image/jpeg:https://gracechurchofchrist.faith/wp-content/uploads/2025/10/Screenshot-2025-10-06-114242.jpg
END:VEVENT
BEGIN:VEVENT
DTSTART;TZID=America/Halifax:20251208T080000
DTEND;TZID=America/Halifax:20251208T083000
DTSTAMP:20260421T221708
CREATED:20250920T161616Z
LAST-MODIFIED:20251105T165757Z
UID:10000035-1765180800-1765182600@gracechurchofchrist.faith
SUMMARY:PodCast
DESCRIPTION:Inspired to Inspire you through the gospel of Jesus Christ\nPastor T. Vincent Bryant\nGrace Church of Christ
URL:https://gracechurchofchrist.faith/event/podcast/2025-12-08/
ATTACH;FMTTYPE=image/jpeg:https://gracechurchofchrist.faith/wp-content/uploads/2025/10/Screenshot-2025-10-06-114242.jpg
END:VEVENT
BEGIN:VEVENT
DTSTART;TZID=America/Halifax:20251205T080000
DTEND;TZID=America/Halifax:20251205T083000
DTSTAMP:20260421T221708
CREATED:20250920T161616Z
LAST-MODIFIED:20251105T165757Z
UID:10000034-1764921600-1764923400@gracechurchofchrist.faith
SUMMARY:PodCast
DESCRIPTION:Inspired to Inspire you through the gospel of Jesus Christ\nPastor T. Vincent Bryant\nGrace Church of Christ
URL:https://gracechurchofchrist.faith/event/podcast/2025-12-05/
ATTACH;FMTTYPE=image/jpeg:https://gracechurchofchrist.faith/wp-content/uploads/2025/10/Screenshot-2025-10-06-114242.jpg
END:VEVENT
BEGIN:VEVENT
DTSTART;TZID=America/Halifax:20251203T080000
DTEND;TZID=America/Halifax:20251203T083000
DTSTAMP:20260421T221708
CREATED:20250920T161616Z
LAST-MODIFIED:20251105T165757Z
UID:10000033-1764748800-1764750600@gracechurchofchrist.faith
SUMMARY:PodCast
DESCRIPTION:Inspired to Inspire you through the gospel of Jesus Christ\nPastor T. Vincent Bryant\nGrace Church of Christ
URL:https://gracechurchofchrist.faith/event/podcast/2025-12-03/
ATTACH;FMTTYPE=image/jpeg:https://gracechurchofchrist.faith/wp-content/uploads/2025/10/Screenshot-2025-10-06-114242.jpg
END:VEVENT
BEGIN:VEVENT
DTSTART;TZID=America/Halifax:20251201T080000
DTEND;TZID=America/Halifax:20251201T083000
DTSTAMP:20260421T221708
CREATED:20250920T161616Z
LAST-MODIFIED:20251105T165757Z
UID:10000032-1764576000-1764577800@gracechurchofchrist.faith
SUMMARY:PodCast
DESCRIPTION:Inspired to Inspire you through the gospel of Jesus Christ\nPastor T. Vincent Bryant\nGrace Church of Christ
URL:https://gracechurchofchrist.faith/event/podcast/2025-12-01/
ATTACH;FMTTYPE=image/jpeg:https://gracechurchofchrist.faith/wp-content/uploads/2025/10/Screenshot-2025-10-06-114242.jpg
END:VEVENT
BEGIN:VEVENT
DTSTART;TZID=America/Halifax:20251128T080000
DTEND;TZID=America/Halifax:20251128T083000
DTSTAMP:20260421T221708
CREATED:20250920T161616Z
LAST-MODIFIED:20251105T165757Z
UID:10000031-1764316800-1764318600@gracechurchofchrist.faith
SUMMARY:PodCast
DESCRIPTION:Inspired to Inspire you through the gospel of Jesus Christ\nPastor T. Vincent Bryant\nGrace Church of Christ
URL:https://gracechurchofchrist.faith/event/podcast/2025-11-28/
ATTACH;FMTTYPE=image/jpeg:https://gracechurchofchrist.faith/wp-content/uploads/2025/10/Screenshot-2025-10-06-114242.jpg
END:VEVENT
BEGIN:VEVENT
DTSTART;TZID=America/Halifax:20251126T080000
DTEND;TZID=America/Halifax:20251126T083000
DTSTAMP:20260421T221708
CREATED:20250920T161616Z
LAST-MODIFIED:20251105T165757Z
UID:10000030-1764144000-1764145800@gracechurchofchrist.faith
SUMMARY:PodCast
DESCRIPTION:Inspired to Inspire you through the gospel of Jesus Christ\nPastor T. Vincent Bryant\nGrace Church of Christ
URL:https://gracechurchofchrist.faith/event/podcast/2025-11-26/
ATTACH;FMTTYPE=image/jpeg:https://gracechurchofchrist.faith/wp-content/uploads/2025/10/Screenshot-2025-10-06-114242.jpg
END:VEVENT
BEGIN:VEVENT
DTSTART;TZID=America/Halifax:20251124T080000
DTEND;TZID=America/Halifax:20251124T083000
DTSTAMP:20260421T221708
CREATED:20250920T161616Z
LAST-MODIFIED:20251105T165757Z
UID:10000029-1763971200-1763973000@gracechurchofchrist.faith
SUMMARY:PodCast
DESCRIPTION:Inspired to Inspire you through the gospel of Jesus Christ\nPastor T. Vincent Bryant\nGrace Church of Christ
URL:https://gracechurchofchrist.faith/event/podcast/2025-11-24/
ATTACH;FMTTYPE=image/jpeg:https://gracechurchofchrist.faith/wp-content/uploads/2025/10/Screenshot-2025-10-06-114242.jpg
END:VEVENT
BEGIN:VEVENT
DTSTART;TZID=America/Halifax:20251121T080000
DTEND;TZID=America/Halifax:20251121T083000
DTSTAMP:20260421T221708
CREATED:20250920T161616Z
LAST-MODIFIED:20251105T165757Z
UID:10000028-1763712000-1763713800@gracechurchofchrist.faith
SUMMARY:PodCast
DESCRIPTION:Inspired to Inspire you through the gospel of Jesus Christ\nPastor T. Vincent Bryant\nGrace Church of Christ
URL:https://gracechurchofchrist.faith/event/podcast/2025-11-21/
ATTACH;FMTTYPE=image/jpeg:https://gracechurchofchrist.faith/wp-content/uploads/2025/10/Screenshot-2025-10-06-114242.jpg
END:VEVENT
BEGIN:VEVENT
DTSTART;TZID=America/Halifax:20251119T080000
DTEND;TZID=America/Halifax:20251119T083000
DTSTAMP:20260421T221708
CREATED:20250920T161616Z
LAST-MODIFIED:20251105T165757Z
UID:10000027-1763539200-1763541000@gracechurchofchrist.faith
SUMMARY:PodCast
DESCRIPTION:Inspired to Inspire you through the gospel of Jesus Christ\nPastor T. Vincent Bryant\nGrace Church of Christ
URL:https://gracechurchofchrist.faith/event/podcast/2025-11-19/
ATTACH;FMTTYPE=image/jpeg:https://gracechurchofchrist.faith/wp-content/uploads/2025/10/Screenshot-2025-10-06-114242.jpg
END:VEVENT
BEGIN:VEVENT
DTSTART;TZID=America/Halifax:20251117T080000
DTEND;TZID=America/Halifax:20251117T083000
DTSTAMP:20260421T221708
CREATED:20250920T161616Z
LAST-MODIFIED:20251105T165757Z
UID:10000026-1763366400-1763368200@gracechurchofchrist.faith
SUMMARY:PodCast
DESCRIPTION:Inspired to Inspire you through the gospel of Jesus Christ\nPastor T. Vincent Bryant\nGrace Church of Christ
URL:https://gracechurchofchrist.faith/event/podcast/2025-11-17/
ATTACH;FMTTYPE=image/jpeg:https://gracechurchofchrist.faith/wp-content/uploads/2025/10/Screenshot-2025-10-06-114242.jpg
END:VEVENT
END:VCALENDAR