BEGIN:VCALENDAR
VERSION:2.0
PRODID:-//Grace Church of Christ - ECPv6.15.12.2//NONSGML v1.0//EN
CALSCALE:GREGORIAN
METHOD:PUBLISH
X-WR-CALNAME:Grace Church of Christ
X-ORIGINAL-URL:https://gracechurchofchrist.faith
X-WR-CALDESC:Events for Grace Church of Christ
REFRESH-INTERVAL;VALUE=DURATION:PT1H
X-Robots-Tag:noindex
X-PUBLISHED-TTL:PT1H
BEGIN:VTIMEZONE
TZID:America/Halifax
BEGIN:DAYLIGHT
TZOFFSETFROM:-0400
TZOFFSETTO:-0300
TZNAME:ADT
DTSTART:20250309T060000
END:DAYLIGHT
BEGIN:STANDARD
TZOFFSETFROM:-0300
TZOFFSETTO:-0400
TZNAME:AST
DTSTART:20251102T050000
END:STANDARD
BEGIN:DAYLIGHT
TZOFFSETFROM:-0400
TZOFFSETTO:-0300
TZNAME:ADT
DTSTART:20260308T060000
END:DAYLIGHT
BEGIN:STANDARD
TZOFFSETFROM:-0300
TZOFFSETTO:-0400
TZNAME:AST
DTSTART:20261101T050000
END:STANDARD
BEGIN:DAYLIGHT
TZOFFSETFROM:-0400
TZOFFSETTO:-0300
TZNAME:ADT
DTSTART:20270314T060000
END:DAYLIGHT
BEGIN:STANDARD
TZOFFSETFROM:-0300
TZOFFSETTO:-0400
TZNAME:AST
DTSTART:20271107T050000
END:STANDARD
END:VTIMEZONE
BEGIN:VEVENT
DTSTART;TZID=America/Halifax:20260805T080000
DTEND;TZID=America/Halifax:20260805T083000
DTSTAMP:20260421T150832
CREATED:20250920T161616Z
LAST-MODIFIED:20251105T165757Z
UID:10000138-1785916800-1785918600@gracechurchofchrist.faith
SUMMARY:PodCast
DESCRIPTION:Inspired to Inspire you through the gospel of Jesus Christ\nPastor T. Vincent Bryant\nGrace Church of Christ
URL:https://gracechurchofchrist.faith/event/podcast/2026-08-05/
ATTACH;FMTTYPE=image/jpeg:https://gracechurchofchrist.faith/wp-content/uploads/2025/10/Screenshot-2025-10-06-114242.jpg
END:VEVENT
BEGIN:VEVENT
DTSTART;TZID=America/Halifax:20260807T080000
DTEND;TZID=America/Halifax:20260807T083000
DTSTAMP:20260421T150832
CREATED:20250920T161616Z
LAST-MODIFIED:20251105T165757Z
UID:10000139-1786089600-1786091400@gracechurchofchrist.faith
SUMMARY:PodCast
DESCRIPTION:Inspired to Inspire you through the gospel of Jesus Christ\nPastor T. Vincent Bryant\nGrace Church of Christ
URL:https://gracechurchofchrist.faith/event/podcast/2026-08-07/
ATTACH;FMTTYPE=image/jpeg:https://gracechurchofchrist.faith/wp-content/uploads/2025/10/Screenshot-2025-10-06-114242.jpg
END:VEVENT
BEGIN:VEVENT
DTSTART;TZID=America/Halifax:20260810T080000
DTEND;TZID=America/Halifax:20260810T083000
DTSTAMP:20260421T150832
CREATED:20250920T161616Z
LAST-MODIFIED:20251105T165757Z
UID:10000140-1786348800-1786350600@gracechurchofchrist.faith
SUMMARY:PodCast
DESCRIPTION:Inspired to Inspire you through the gospel of Jesus Christ\nPastor T. Vincent Bryant\nGrace Church of Christ
URL:https://gracechurchofchrist.faith/event/podcast/2026-08-10/
ATTACH;FMTTYPE=image/jpeg:https://gracechurchofchrist.faith/wp-content/uploads/2025/10/Screenshot-2025-10-06-114242.jpg
END:VEVENT
BEGIN:VEVENT
DTSTART;TZID=America/Halifax:20260812T080000
DTEND;TZID=America/Halifax:20260812T083000
DTSTAMP:20260421T150832
CREATED:20250920T161616Z
LAST-MODIFIED:20251105T165757Z
UID:10000141-1786521600-1786523400@gracechurchofchrist.faith
SUMMARY:PodCast
DESCRIPTION:Inspired to Inspire you through the gospel of Jesus Christ\nPastor T. Vincent Bryant\nGrace Church of Christ
URL:https://gracechurchofchrist.faith/event/podcast/2026-08-12/
ATTACH;FMTTYPE=image/jpeg:https://gracechurchofchrist.faith/wp-content/uploads/2025/10/Screenshot-2025-10-06-114242.jpg
END:VEVENT
BEGIN:VEVENT
DTSTART;TZID=America/Halifax:20260814T080000
DTEND;TZID=America/Halifax:20260814T083000
DTSTAMP:20260421T150832
CREATED:20250920T161616Z
LAST-MODIFIED:20251105T165757Z
UID:10000142-1786694400-1786696200@gracechurchofchrist.faith
SUMMARY:PodCast
DESCRIPTION:Inspired to Inspire you through the gospel of Jesus Christ\nPastor T. Vincent Bryant\nGrace Church of Christ
URL:https://gracechurchofchrist.faith/event/podcast/2026-08-14/
ATTACH;FMTTYPE=image/jpeg:https://gracechurchofchrist.faith/wp-content/uploads/2025/10/Screenshot-2025-10-06-114242.jpg
END:VEVENT
BEGIN:VEVENT
DTSTART;TZID=America/Halifax:20260817T080000
DTEND;TZID=America/Halifax:20260817T083000
DTSTAMP:20260421T150832
CREATED:20250920T161616Z
LAST-MODIFIED:20251105T165757Z
UID:10000143-1786953600-1786955400@gracechurchofchrist.faith
SUMMARY:PodCast
DESCRIPTION:Inspired to Inspire you through the gospel of Jesus Christ\nPastor T. Vincent Bryant\nGrace Church of Christ
URL:https://gracechurchofchrist.faith/event/podcast/2026-08-17/
ATTACH;FMTTYPE=image/jpeg:https://gracechurchofchrist.faith/wp-content/uploads/2025/10/Screenshot-2025-10-06-114242.jpg
END:VEVENT
BEGIN:VEVENT
DTSTART;TZID=America/Halifax:20260819T080000
DTEND;TZID=America/Halifax:20260819T083000
DTSTAMP:20260421T150832
CREATED:20250920T161616Z
LAST-MODIFIED:20251105T165757Z
UID:10000144-1787126400-1787128200@gracechurchofchrist.faith
SUMMARY:PodCast
DESCRIPTION:Inspired to Inspire you through the gospel of Jesus Christ\nPastor T. Vincent Bryant\nGrace Church of Christ
URL:https://gracechurchofchrist.faith/event/podcast/2026-08-19/
ATTACH;FMTTYPE=image/jpeg:https://gracechurchofchrist.faith/wp-content/uploads/2025/10/Screenshot-2025-10-06-114242.jpg
END:VEVENT
BEGIN:VEVENT
DTSTART;TZID=America/Halifax:20260821T080000
DTEND;TZID=America/Halifax:20260821T083000
DTSTAMP:20260421T150832
CREATED:20250920T161616Z
LAST-MODIFIED:20251105T165757Z
UID:10000145-1787299200-1787301000@gracechurchofchrist.faith
SUMMARY:PodCast
DESCRIPTION:Inspired to Inspire you through the gospel of Jesus Christ\nPastor T. Vincent Bryant\nGrace Church of Christ
URL:https://gracechurchofchrist.faith/event/podcast/2026-08-21/
ATTACH;FMTTYPE=image/jpeg:https://gracechurchofchrist.faith/wp-content/uploads/2025/10/Screenshot-2025-10-06-114242.jpg
END:VEVENT
BEGIN:VEVENT
DTSTART;TZID=America/Halifax:20260824T080000
DTEND;TZID=America/Halifax:20260824T083000
DTSTAMP:20260421T150832
CREATED:20250920T161616Z
LAST-MODIFIED:20251105T165757Z
UID:10000146-1787558400-1787560200@gracechurchofchrist.faith
SUMMARY:PodCast
DESCRIPTION:Inspired to Inspire you through the gospel of Jesus Christ\nPastor T. Vincent Bryant\nGrace Church of Christ
URL:https://gracechurchofchrist.faith/event/podcast/2026-08-24/
ATTACH;FMTTYPE=image/jpeg:https://gracechurchofchrist.faith/wp-content/uploads/2025/10/Screenshot-2025-10-06-114242.jpg
END:VEVENT
BEGIN:VEVENT
DTSTART;TZID=America/Halifax:20260826T080000
DTEND;TZID=America/Halifax:20260826T083000
DTSTAMP:20260421T150832
CREATED:20250920T161616Z
LAST-MODIFIED:20251105T165757Z
UID:10000147-1787731200-1787733000@gracechurchofchrist.faith
SUMMARY:PodCast
DESCRIPTION:Inspired to Inspire you through the gospel of Jesus Christ\nPastor T. Vincent Bryant\nGrace Church of Christ
URL:https://gracechurchofchrist.faith/event/podcast/2026-08-26/
ATTACH;FMTTYPE=image/jpeg:https://gracechurchofchrist.faith/wp-content/uploads/2025/10/Screenshot-2025-10-06-114242.jpg
END:VEVENT
BEGIN:VEVENT
DTSTART;TZID=America/Halifax:20260828T080000
DTEND;TZID=America/Halifax:20260828T083000
DTSTAMP:20260421T150832
CREATED:20250920T161616Z
LAST-MODIFIED:20251105T165757Z
UID:10000148-1787904000-1787905800@gracechurchofchrist.faith
SUMMARY:PodCast
DESCRIPTION:Inspired to Inspire you through the gospel of Jesus Christ\nPastor T. Vincent Bryant\nGrace Church of Christ
URL:https://gracechurchofchrist.faith/event/podcast/2026-08-28/
ATTACH;FMTTYPE=image/jpeg:https://gracechurchofchrist.faith/wp-content/uploads/2025/10/Screenshot-2025-10-06-114242.jpg
END:VEVENT
BEGIN:VEVENT
DTSTART;TZID=America/Halifax:20260831T080000
DTEND;TZID=America/Halifax:20260831T083000
DTSTAMP:20260421T150832
CREATED:20250920T161616Z
LAST-MODIFIED:20251105T165757Z
UID:10000149-1788163200-1788165000@gracechurchofchrist.faith
SUMMARY:PodCast
DESCRIPTION:Inspired to Inspire you through the gospel of Jesus Christ\nPastor T. Vincent Bryant\nGrace Church of Christ
URL:https://gracechurchofchrist.faith/event/podcast/2026-08-31/
ATTACH;FMTTYPE=image/jpeg:https://gracechurchofchrist.faith/wp-content/uploads/2025/10/Screenshot-2025-10-06-114242.jpg
END:VEVENT
BEGIN:VEVENT
DTSTART;TZID=America/Halifax:20260902T080000
DTEND;TZID=America/Halifax:20260902T083000
DTSTAMP:20260421T150832
CREATED:20250920T161616Z
LAST-MODIFIED:20251105T165757Z
UID:10000150-1788336000-1788337800@gracechurchofchrist.faith
SUMMARY:PodCast
DESCRIPTION:Inspired to Inspire you through the gospel of Jesus Christ\nPastor T. Vincent Bryant\nGrace Church of Christ
URL:https://gracechurchofchrist.faith/event/podcast/2026-09-02/
ATTACH;FMTTYPE=image/jpeg:https://gracechurchofchrist.faith/wp-content/uploads/2025/10/Screenshot-2025-10-06-114242.jpg
END:VEVENT
BEGIN:VEVENT
DTSTART;TZID=America/Halifax:20260904T080000
DTEND;TZID=America/Halifax:20260904T083000
DTSTAMP:20260421T150832
CREATED:20250920T161616Z
LAST-MODIFIED:20251105T165757Z
UID:10000160-1788508800-1788510600@gracechurchofchrist.faith
SUMMARY:PodCast
DESCRIPTION:Inspired to Inspire you through the gospel of Jesus Christ\nPastor T. Vincent Bryant\nGrace Church of Christ
URL:https://gracechurchofchrist.faith/event/podcast/2026-09-04/
ATTACH;FMTTYPE=image/jpeg:https://gracechurchofchrist.faith/wp-content/uploads/2025/10/Screenshot-2025-10-06-114242.jpg
END:VEVENT
BEGIN:VEVENT
DTSTART;TZID=America/Halifax:20260907T080000
DTEND;TZID=America/Halifax:20260907T083000
DTSTAMP:20260421T150832
CREATED:20250920T161616Z
LAST-MODIFIED:20251105T165757Z
UID:10000182-1788768000-1788769800@gracechurchofchrist.faith
SUMMARY:PodCast
DESCRIPTION:Inspired to Inspire you through the gospel of Jesus Christ\nPastor T. Vincent Bryant\nGrace Church of Christ
URL:https://gracechurchofchrist.faith/event/podcast/2026-09-07/
ATTACH;FMTTYPE=image/jpeg:https://gracechurchofchrist.faith/wp-content/uploads/2025/10/Screenshot-2025-10-06-114242.jpg
END:VEVENT
BEGIN:VEVENT
DTSTART;TZID=America/Halifax:20260909T080000
DTEND;TZID=America/Halifax:20260909T083000
DTSTAMP:20260421T150832
CREATED:20250920T161616Z
LAST-MODIFIED:20251105T165757Z
UID:10000183-1788940800-1788942600@gracechurchofchrist.faith
SUMMARY:PodCast
DESCRIPTION:Inspired to Inspire you through the gospel of Jesus Christ\nPastor T. Vincent Bryant\nGrace Church of Christ
URL:https://gracechurchofchrist.faith/event/podcast/2026-09-09/
ATTACH;FMTTYPE=image/jpeg:https://gracechurchofchrist.faith/wp-content/uploads/2025/10/Screenshot-2025-10-06-114242.jpg
END:VEVENT
BEGIN:VEVENT
DTSTART;TZID=America/Halifax:20260911T080000
DTEND;TZID=America/Halifax:20260911T083000
DTSTAMP:20260421T150832
CREATED:20250920T161616Z
LAST-MODIFIED:20251105T165757Z
UID:10000184-1789113600-1789115400@gracechurchofchrist.faith
SUMMARY:PodCast
DESCRIPTION:Inspired to Inspire you through the gospel of Jesus Christ\nPastor T. Vincent Bryant\nGrace Church of Christ
URL:https://gracechurchofchrist.faith/event/podcast/2026-09-11/
ATTACH;FMTTYPE=image/jpeg:https://gracechurchofchrist.faith/wp-content/uploads/2025/10/Screenshot-2025-10-06-114242.jpg
END:VEVENT
BEGIN:VEVENT
DTSTART;TZID=America/Halifax:20260914T080000
DTEND;TZID=America/Halifax:20260914T083000
DTSTAMP:20260421T150832
CREATED:20250920T161616Z
LAST-MODIFIED:20251105T165757Z
UID:10000185-1789372800-1789374600@gracechurchofchrist.faith
SUMMARY:PodCast
DESCRIPTION:Inspired to Inspire you through the gospel of Jesus Christ\nPastor T. Vincent Bryant\nGrace Church of Christ
URL:https://gracechurchofchrist.faith/event/podcast/2026-09-14/
ATTACH;FMTTYPE=image/jpeg:https://gracechurchofchrist.faith/wp-content/uploads/2025/10/Screenshot-2025-10-06-114242.jpg
END:VEVENT
BEGIN:VEVENT
DTSTART;TZID=America/Halifax:20260916T080000
DTEND;TZID=America/Halifax:20260916T083000
DTSTAMP:20260421T150832
CREATED:20250920T161616Z
LAST-MODIFIED:20251105T165757Z
UID:10000186-1789545600-1789547400@gracechurchofchrist.faith
SUMMARY:PodCast
DESCRIPTION:Inspired to Inspire you through the gospel of Jesus Christ\nPastor T. Vincent Bryant\nGrace Church of Christ
URL:https://gracechurchofchrist.faith/event/podcast/2026-09-16/
ATTACH;FMTTYPE=image/jpeg:https://gracechurchofchrist.faith/wp-content/uploads/2025/10/Screenshot-2025-10-06-114242.jpg
END:VEVENT
BEGIN:VEVENT
DTSTART;TZID=America/Halifax:20260918T080000
DTEND;TZID=America/Halifax:20260918T083000
DTSTAMP:20260421T150832
CREATED:20250920T161616Z
LAST-MODIFIED:20251105T165757Z
UID:10000187-1789718400-1789720200@gracechurchofchrist.faith
SUMMARY:PodCast
DESCRIPTION:Inspired to Inspire you through the gospel of Jesus Christ\nPastor T. Vincent Bryant\nGrace Church of Christ
URL:https://gracechurchofchrist.faith/event/podcast/2026-09-18/
ATTACH;FMTTYPE=image/jpeg:https://gracechurchofchrist.faith/wp-content/uploads/2025/10/Screenshot-2025-10-06-114242.jpg
END:VEVENT
END:VCALENDAR