BEGIN:VCALENDAR
VERSION:2.0
PRODID:-//Grace Church of Christ - ECPv6.15.12.2//NONSGML v1.0//EN
CALSCALE:GREGORIAN
METHOD:PUBLISH
X-WR-CALNAME:Grace Church of Christ
X-ORIGINAL-URL:https://gracechurchofchrist.faith
X-WR-CALDESC:Events for Grace Church of Christ
REFRESH-INTERVAL;VALUE=DURATION:PT1H
X-Robots-Tag:noindex
X-PUBLISHED-TTL:PT1H
BEGIN:VTIMEZONE
TZID:America/Halifax
BEGIN:DAYLIGHT
TZOFFSETFROM:-0400
TZOFFSETTO:-0300
TZNAME:ADT
DTSTART:20250309T060000
END:DAYLIGHT
BEGIN:STANDARD
TZOFFSETFROM:-0300
TZOFFSETTO:-0400
TZNAME:AST
DTSTART:20251102T050000
END:STANDARD
BEGIN:DAYLIGHT
TZOFFSETFROM:-0400
TZOFFSETTO:-0300
TZNAME:ADT
DTSTART:20260308T060000
END:DAYLIGHT
BEGIN:STANDARD
TZOFFSETFROM:-0300
TZOFFSETTO:-0400
TZNAME:AST
DTSTART:20261101T050000
END:STANDARD
BEGIN:DAYLIGHT
TZOFFSETFROM:-0400
TZOFFSETTO:-0300
TZNAME:ADT
DTSTART:20270314T060000
END:DAYLIGHT
BEGIN:STANDARD
TZOFFSETFROM:-0300
TZOFFSETTO:-0400
TZNAME:AST
DTSTART:20271107T050000
END:STANDARD
END:VTIMEZONE
BEGIN:VEVENT
DTSTART;TZID=America/Halifax:20260403T080000
DTEND;TZID=America/Halifax:20260403T083000
DTSTAMP:20260421T085754
CREATED:20250920T161616Z
LAST-MODIFIED:20251105T165757Z
UID:10000085-1775203200-1775205000@gracechurchofchrist.faith
SUMMARY:PodCast
DESCRIPTION:Inspired to Inspire you through the gospel of Jesus Christ\nPastor T. Vincent Bryant\nGrace Church of Christ
URL:https://gracechurchofchrist.faith/event/podcast/2026-04-03/
ATTACH;FMTTYPE=image/jpeg:https://gracechurchofchrist.faith/wp-content/uploads/2025/10/Screenshot-2025-10-06-114242.jpg
END:VEVENT
BEGIN:VEVENT
DTSTART;TZID=America/Halifax:20260401T080000
DTEND;TZID=America/Halifax:20260401T083000
DTSTAMP:20260421T085754
CREATED:20250920T161616Z
LAST-MODIFIED:20251105T165757Z
UID:10000084-1775030400-1775032200@gracechurchofchrist.faith
SUMMARY:PodCast
DESCRIPTION:Inspired to Inspire you through the gospel of Jesus Christ\nPastor T. Vincent Bryant\nGrace Church of Christ
URL:https://gracechurchofchrist.faith/event/podcast/2026-04-01/
ATTACH;FMTTYPE=image/jpeg:https://gracechurchofchrist.faith/wp-content/uploads/2025/10/Screenshot-2025-10-06-114242.jpg
END:VEVENT
BEGIN:VEVENT
DTSTART;TZID=America/Halifax:20260330T080000
DTEND;TZID=America/Halifax:20260330T083000
DTSTAMP:20260421T085754
CREATED:20250920T161616Z
LAST-MODIFIED:20251105T165757Z
UID:10000083-1774857600-1774859400@gracechurchofchrist.faith
SUMMARY:PodCast
DESCRIPTION:Inspired to Inspire you through the gospel of Jesus Christ\nPastor T. Vincent Bryant\nGrace Church of Christ
URL:https://gracechurchofchrist.faith/event/podcast/2026-03-30/
ATTACH;FMTTYPE=image/jpeg:https://gracechurchofchrist.faith/wp-content/uploads/2025/10/Screenshot-2025-10-06-114242.jpg
END:VEVENT
BEGIN:VEVENT
DTSTART;TZID=America/Halifax:20260327T080000
DTEND;TZID=America/Halifax:20260327T083000
DTSTAMP:20260421T085754
CREATED:20250920T161616Z
LAST-MODIFIED:20251105T165757Z
UID:10000082-1774598400-1774600200@gracechurchofchrist.faith
SUMMARY:PodCast
DESCRIPTION:Inspired to Inspire you through the gospel of Jesus Christ\nPastor T. Vincent Bryant\nGrace Church of Christ
URL:https://gracechurchofchrist.faith/event/podcast/2026-03-27/
ATTACH;FMTTYPE=image/jpeg:https://gracechurchofchrist.faith/wp-content/uploads/2025/10/Screenshot-2025-10-06-114242.jpg
END:VEVENT
BEGIN:VEVENT
DTSTART;TZID=America/Halifax:20260325T080000
DTEND;TZID=America/Halifax:20260325T083000
DTSTAMP:20260421T085754
CREATED:20250920T161616Z
LAST-MODIFIED:20251105T165757Z
UID:10000081-1774425600-1774427400@gracechurchofchrist.faith
SUMMARY:PodCast
DESCRIPTION:Inspired to Inspire you through the gospel of Jesus Christ\nPastor T. Vincent Bryant\nGrace Church of Christ
URL:https://gracechurchofchrist.faith/event/podcast/2026-03-25/
ATTACH;FMTTYPE=image/jpeg:https://gracechurchofchrist.faith/wp-content/uploads/2025/10/Screenshot-2025-10-06-114242.jpg
END:VEVENT
BEGIN:VEVENT
DTSTART;TZID=America/Halifax:20260323T080000
DTEND;TZID=America/Halifax:20260323T083000
DTSTAMP:20260421T085754
CREATED:20250920T161616Z
LAST-MODIFIED:20251105T165757Z
UID:10000080-1774252800-1774254600@gracechurchofchrist.faith
SUMMARY:PodCast
DESCRIPTION:Inspired to Inspire you through the gospel of Jesus Christ\nPastor T. Vincent Bryant\nGrace Church of Christ
URL:https://gracechurchofchrist.faith/event/podcast/2026-03-23/
ATTACH;FMTTYPE=image/jpeg:https://gracechurchofchrist.faith/wp-content/uploads/2025/10/Screenshot-2025-10-06-114242.jpg
END:VEVENT
BEGIN:VEVENT
DTSTART;TZID=America/Halifax:20260320T080000
DTEND;TZID=America/Halifax:20260320T083000
DTSTAMP:20260421T085754
CREATED:20250920T161616Z
LAST-MODIFIED:20251105T165757Z
UID:10000079-1773993600-1773995400@gracechurchofchrist.faith
SUMMARY:PodCast
DESCRIPTION:Inspired to Inspire you through the gospel of Jesus Christ\nPastor T. Vincent Bryant\nGrace Church of Christ
URL:https://gracechurchofchrist.faith/event/podcast/2026-03-20/
ATTACH;FMTTYPE=image/jpeg:https://gracechurchofchrist.faith/wp-content/uploads/2025/10/Screenshot-2025-10-06-114242.jpg
END:VEVENT
BEGIN:VEVENT
DTSTART;TZID=America/Halifax:20260318T080000
DTEND;TZID=America/Halifax:20260318T083000
DTSTAMP:20260421T085754
CREATED:20250920T161616Z
LAST-MODIFIED:20251105T165757Z
UID:10000078-1773820800-1773822600@gracechurchofchrist.faith
SUMMARY:PodCast
DESCRIPTION:Inspired to Inspire you through the gospel of Jesus Christ\nPastor T. Vincent Bryant\nGrace Church of Christ
URL:https://gracechurchofchrist.faith/event/podcast/2026-03-18/
ATTACH;FMTTYPE=image/jpeg:https://gracechurchofchrist.faith/wp-content/uploads/2025/10/Screenshot-2025-10-06-114242.jpg
END:VEVENT
BEGIN:VEVENT
DTSTART;TZID=America/Halifax:20260316T080000
DTEND;TZID=America/Halifax:20260316T083000
DTSTAMP:20260421T085754
CREATED:20250920T161616Z
LAST-MODIFIED:20251105T165757Z
UID:10000077-1773648000-1773649800@gracechurchofchrist.faith
SUMMARY:PodCast
DESCRIPTION:Inspired to Inspire you through the gospel of Jesus Christ\nPastor T. Vincent Bryant\nGrace Church of Christ
URL:https://gracechurchofchrist.faith/event/podcast/2026-03-16/
ATTACH;FMTTYPE=image/jpeg:https://gracechurchofchrist.faith/wp-content/uploads/2025/10/Screenshot-2025-10-06-114242.jpg
END:VEVENT
BEGIN:VEVENT
DTSTART;TZID=America/Halifax:20260313T080000
DTEND;TZID=America/Halifax:20260313T083000
DTSTAMP:20260421T085754
CREATED:20250920T161616Z
LAST-MODIFIED:20251105T165757Z
UID:10000076-1773388800-1773390600@gracechurchofchrist.faith
SUMMARY:PodCast
DESCRIPTION:Inspired to Inspire you through the gospel of Jesus Christ\nPastor T. Vincent Bryant\nGrace Church of Christ
URL:https://gracechurchofchrist.faith/event/podcast/2026-03-13/
ATTACH;FMTTYPE=image/jpeg:https://gracechurchofchrist.faith/wp-content/uploads/2025/10/Screenshot-2025-10-06-114242.jpg
END:VEVENT
BEGIN:VEVENT
DTSTART;TZID=America/Halifax:20260311T080000
DTEND;TZID=America/Halifax:20260311T083000
DTSTAMP:20260421T085754
CREATED:20250920T161616Z
LAST-MODIFIED:20251105T165757Z
UID:10000075-1773216000-1773217800@gracechurchofchrist.faith
SUMMARY:PodCast
DESCRIPTION:Inspired to Inspire you through the gospel of Jesus Christ\nPastor T. Vincent Bryant\nGrace Church of Christ
URL:https://gracechurchofchrist.faith/event/podcast/2026-03-11/
ATTACH;FMTTYPE=image/jpeg:https://gracechurchofchrist.faith/wp-content/uploads/2025/10/Screenshot-2025-10-06-114242.jpg
END:VEVENT
BEGIN:VEVENT
DTSTART;TZID=America/Halifax:20260309T080000
DTEND;TZID=America/Halifax:20260309T083000
DTSTAMP:20260421T085754
CREATED:20250920T161616Z
LAST-MODIFIED:20251105T165757Z
UID:10000074-1773043200-1773045000@gracechurchofchrist.faith
SUMMARY:PodCast
DESCRIPTION:Inspired to Inspire you through the gospel of Jesus Christ\nPastor T. Vincent Bryant\nGrace Church of Christ
URL:https://gracechurchofchrist.faith/event/podcast/2026-03-09/
ATTACH;FMTTYPE=image/jpeg:https://gracechurchofchrist.faith/wp-content/uploads/2025/10/Screenshot-2025-10-06-114242.jpg
END:VEVENT
BEGIN:VEVENT
DTSTART;TZID=America/Halifax:20260306T080000
DTEND;TZID=America/Halifax:20260306T083000
DTSTAMP:20260421T085754
CREATED:20250920T161616Z
LAST-MODIFIED:20251105T165757Z
UID:10000073-1772784000-1772785800@gracechurchofchrist.faith
SUMMARY:PodCast
DESCRIPTION:Inspired to Inspire you through the gospel of Jesus Christ\nPastor T. Vincent Bryant\nGrace Church of Christ
URL:https://gracechurchofchrist.faith/event/podcast/2026-03-06/
ATTACH;FMTTYPE=image/jpeg:https://gracechurchofchrist.faith/wp-content/uploads/2025/10/Screenshot-2025-10-06-114242.jpg
END:VEVENT
BEGIN:VEVENT
DTSTART;TZID=America/Halifax:20260304T080000
DTEND;TZID=America/Halifax:20260304T083000
DTSTAMP:20260421T085754
CREATED:20250920T161616Z
LAST-MODIFIED:20251105T165757Z
UID:10000072-1772611200-1772613000@gracechurchofchrist.faith
SUMMARY:PodCast
DESCRIPTION:Inspired to Inspire you through the gospel of Jesus Christ\nPastor T. Vincent Bryant\nGrace Church of Christ
URL:https://gracechurchofchrist.faith/event/podcast/2026-03-04/
ATTACH;FMTTYPE=image/jpeg:https://gracechurchofchrist.faith/wp-content/uploads/2025/10/Screenshot-2025-10-06-114242.jpg
END:VEVENT
BEGIN:VEVENT
DTSTART;TZID=America/Halifax:20260302T080000
DTEND;TZID=America/Halifax:20260302T083000
DTSTAMP:20260421T085754
CREATED:20250920T161616Z
LAST-MODIFIED:20251105T165757Z
UID:10000071-1772438400-1772440200@gracechurchofchrist.faith
SUMMARY:PodCast
DESCRIPTION:Inspired to Inspire you through the gospel of Jesus Christ\nPastor T. Vincent Bryant\nGrace Church of Christ
URL:https://gracechurchofchrist.faith/event/podcast/2026-03-02/
ATTACH;FMTTYPE=image/jpeg:https://gracechurchofchrist.faith/wp-content/uploads/2025/10/Screenshot-2025-10-06-114242.jpg
END:VEVENT
BEGIN:VEVENT
DTSTART;TZID=America/Halifax:20260227T080000
DTEND;TZID=America/Halifax:20260227T083000
DTSTAMP:20260421T085754
CREATED:20250920T161616Z
LAST-MODIFIED:20251105T165757Z
UID:10000070-1772179200-1772181000@gracechurchofchrist.faith
SUMMARY:PodCast
DESCRIPTION:Inspired to Inspire you through the gospel of Jesus Christ\nPastor T. Vincent Bryant\nGrace Church of Christ
URL:https://gracechurchofchrist.faith/event/podcast/2026-02-27/
ATTACH;FMTTYPE=image/jpeg:https://gracechurchofchrist.faith/wp-content/uploads/2025/10/Screenshot-2025-10-06-114242.jpg
END:VEVENT
BEGIN:VEVENT
DTSTART;TZID=America/Halifax:20260225T080000
DTEND;TZID=America/Halifax:20260225T083000
DTSTAMP:20260421T085754
CREATED:20250920T161616Z
LAST-MODIFIED:20251105T165757Z
UID:10000069-1772006400-1772008200@gracechurchofchrist.faith
SUMMARY:PodCast
DESCRIPTION:Inspired to Inspire you through the gospel of Jesus Christ\nPastor T. Vincent Bryant\nGrace Church of Christ
URL:https://gracechurchofchrist.faith/event/podcast/2026-02-25/
ATTACH;FMTTYPE=image/jpeg:https://gracechurchofchrist.faith/wp-content/uploads/2025/10/Screenshot-2025-10-06-114242.jpg
END:VEVENT
BEGIN:VEVENT
DTSTART;TZID=America/Halifax:20260223T080000
DTEND;TZID=America/Halifax:20260223T083000
DTSTAMP:20260421T085754
CREATED:20250920T161616Z
LAST-MODIFIED:20251105T165757Z
UID:10000068-1771833600-1771835400@gracechurchofchrist.faith
SUMMARY:PodCast
DESCRIPTION:Inspired to Inspire you through the gospel of Jesus Christ\nPastor T. Vincent Bryant\nGrace Church of Christ
URL:https://gracechurchofchrist.faith/event/podcast/2026-02-23/
ATTACH;FMTTYPE=image/jpeg:https://gracechurchofchrist.faith/wp-content/uploads/2025/10/Screenshot-2025-10-06-114242.jpg
END:VEVENT
BEGIN:VEVENT
DTSTART;TZID=America/Halifax:20260220T080000
DTEND;TZID=America/Halifax:20260220T083000
DTSTAMP:20260421T085754
CREATED:20250920T161616Z
LAST-MODIFIED:20251105T165757Z
UID:10000067-1771574400-1771576200@gracechurchofchrist.faith
SUMMARY:PodCast
DESCRIPTION:Inspired to Inspire you through the gospel of Jesus Christ\nPastor T. Vincent Bryant\nGrace Church of Christ
URL:https://gracechurchofchrist.faith/event/podcast/2026-02-20/
ATTACH;FMTTYPE=image/jpeg:https://gracechurchofchrist.faith/wp-content/uploads/2025/10/Screenshot-2025-10-06-114242.jpg
END:VEVENT
BEGIN:VEVENT
DTSTART;TZID=America/Halifax:20260218T080000
DTEND;TZID=America/Halifax:20260218T083000
DTSTAMP:20260421T085754
CREATED:20250920T161616Z
LAST-MODIFIED:20251105T165757Z
UID:10000066-1771401600-1771403400@gracechurchofchrist.faith
SUMMARY:PodCast
DESCRIPTION:Inspired to Inspire you through the gospel of Jesus Christ\nPastor T. Vincent Bryant\nGrace Church of Christ
URL:https://gracechurchofchrist.faith/event/podcast/2026-02-18/
ATTACH;FMTTYPE=image/jpeg:https://gracechurchofchrist.faith/wp-content/uploads/2025/10/Screenshot-2025-10-06-114242.jpg
END:VEVENT
BEGIN:VEVENT
DTSTART;TZID=America/Halifax:20260216T080000
DTEND;TZID=America/Halifax:20260216T083000
DTSTAMP:20260421T085754
CREATED:20250920T161616Z
LAST-MODIFIED:20251105T165757Z
UID:10000065-1771228800-1771230600@gracechurchofchrist.faith
SUMMARY:PodCast
DESCRIPTION:Inspired to Inspire you through the gospel of Jesus Christ\nPastor T. Vincent Bryant\nGrace Church of Christ
URL:https://gracechurchofchrist.faith/event/podcast/2026-02-16/
ATTACH;FMTTYPE=image/jpeg:https://gracechurchofchrist.faith/wp-content/uploads/2025/10/Screenshot-2025-10-06-114242.jpg
END:VEVENT
BEGIN:VEVENT
DTSTART;TZID=America/Halifax:20260213T080000
DTEND;TZID=America/Halifax:20260213T083000
DTSTAMP:20260421T085754
CREATED:20250920T161616Z
LAST-MODIFIED:20251105T165757Z
UID:10000064-1770969600-1770971400@gracechurchofchrist.faith
SUMMARY:PodCast
DESCRIPTION:Inspired to Inspire you through the gospel of Jesus Christ\nPastor T. Vincent Bryant\nGrace Church of Christ
URL:https://gracechurchofchrist.faith/event/podcast/2026-02-13/
ATTACH;FMTTYPE=image/jpeg:https://gracechurchofchrist.faith/wp-content/uploads/2025/10/Screenshot-2025-10-06-114242.jpg
END:VEVENT
BEGIN:VEVENT
DTSTART;TZID=America/Halifax:20260211T080000
DTEND;TZID=America/Halifax:20260211T083000
DTSTAMP:20260421T085754
CREATED:20250920T161616Z
LAST-MODIFIED:20251105T165757Z
UID:10000063-1770796800-1770798600@gracechurchofchrist.faith
SUMMARY:PodCast
DESCRIPTION:Inspired to Inspire you through the gospel of Jesus Christ\nPastor T. Vincent Bryant\nGrace Church of Christ
URL:https://gracechurchofchrist.faith/event/podcast/2026-02-11/
ATTACH;FMTTYPE=image/jpeg:https://gracechurchofchrist.faith/wp-content/uploads/2025/10/Screenshot-2025-10-06-114242.jpg
END:VEVENT
BEGIN:VEVENT
DTSTART;TZID=America/Halifax:20260209T080000
DTEND;TZID=America/Halifax:20260209T083000
DTSTAMP:20260421T085754
CREATED:20250920T161616Z
LAST-MODIFIED:20251105T165757Z
UID:10000062-1770624000-1770625800@gracechurchofchrist.faith
SUMMARY:PodCast
DESCRIPTION:Inspired to Inspire you through the gospel of Jesus Christ\nPastor T. Vincent Bryant\nGrace Church of Christ
URL:https://gracechurchofchrist.faith/event/podcast/2026-02-09/
ATTACH;FMTTYPE=image/jpeg:https://gracechurchofchrist.faith/wp-content/uploads/2025/10/Screenshot-2025-10-06-114242.jpg
END:VEVENT
BEGIN:VEVENT
DTSTART;TZID=America/Halifax:20260206T080000
DTEND;TZID=America/Halifax:20260206T083000
DTSTAMP:20260421T085754
CREATED:20250920T161616Z
LAST-MODIFIED:20251105T165757Z
UID:10000061-1770364800-1770366600@gracechurchofchrist.faith
SUMMARY:PodCast
DESCRIPTION:Inspired to Inspire you through the gospel of Jesus Christ\nPastor T. Vincent Bryant\nGrace Church of Christ
URL:https://gracechurchofchrist.faith/event/podcast/2026-02-06/
ATTACH;FMTTYPE=image/jpeg:https://gracechurchofchrist.faith/wp-content/uploads/2025/10/Screenshot-2025-10-06-114242.jpg
END:VEVENT
BEGIN:VEVENT
DTSTART;TZID=America/Halifax:20260204T080000
DTEND;TZID=America/Halifax:20260204T083000
DTSTAMP:20260421T085754
CREATED:20250920T161616Z
LAST-MODIFIED:20251105T165757Z
UID:10000060-1770192000-1770193800@gracechurchofchrist.faith
SUMMARY:PodCast
DESCRIPTION:Inspired to Inspire you through the gospel of Jesus Christ\nPastor T. Vincent Bryant\nGrace Church of Christ
URL:https://gracechurchofchrist.faith/event/podcast/2026-02-04/
ATTACH;FMTTYPE=image/jpeg:https://gracechurchofchrist.faith/wp-content/uploads/2025/10/Screenshot-2025-10-06-114242.jpg
END:VEVENT
BEGIN:VEVENT
DTSTART;TZID=America/Halifax:20260202T080000
DTEND;TZID=America/Halifax:20260202T083000
DTSTAMP:20260421T085754
CREATED:20250920T161616Z
LAST-MODIFIED:20251105T165757Z
UID:10000059-1770019200-1770021000@gracechurchofchrist.faith
SUMMARY:PodCast
DESCRIPTION:Inspired to Inspire you through the gospel of Jesus Christ\nPastor T. Vincent Bryant\nGrace Church of Christ
URL:https://gracechurchofchrist.faith/event/podcast/2026-02-02/
ATTACH;FMTTYPE=image/jpeg:https://gracechurchofchrist.faith/wp-content/uploads/2025/10/Screenshot-2025-10-06-114242.jpg
END:VEVENT
BEGIN:VEVENT
DTSTART;TZID=America/Halifax:20260130T080000
DTEND;TZID=America/Halifax:20260130T083000
DTSTAMP:20260421T085754
CREATED:20250920T161616Z
LAST-MODIFIED:20251105T165757Z
UID:10000058-1769760000-1769761800@gracechurchofchrist.faith
SUMMARY:PodCast
DESCRIPTION:Inspired to Inspire you through the gospel of Jesus Christ\nPastor T. Vincent Bryant\nGrace Church of Christ
URL:https://gracechurchofchrist.faith/event/podcast/2026-01-30/
ATTACH;FMTTYPE=image/jpeg:https://gracechurchofchrist.faith/wp-content/uploads/2025/10/Screenshot-2025-10-06-114242.jpg
END:VEVENT
BEGIN:VEVENT
DTSTART;TZID=America/Halifax:20260128T080000
DTEND;TZID=America/Halifax:20260128T083000
DTSTAMP:20260421T085754
CREATED:20250920T161616Z
LAST-MODIFIED:20251105T165757Z
UID:10000057-1769587200-1769589000@gracechurchofchrist.faith
SUMMARY:PodCast
DESCRIPTION:Inspired to Inspire you through the gospel of Jesus Christ\nPastor T. Vincent Bryant\nGrace Church of Christ
URL:https://gracechurchofchrist.faith/event/podcast/2026-01-28/
ATTACH;FMTTYPE=image/jpeg:https://gracechurchofchrist.faith/wp-content/uploads/2025/10/Screenshot-2025-10-06-114242.jpg
END:VEVENT
BEGIN:VEVENT
DTSTART;TZID=America/Halifax:20260126T080000
DTEND;TZID=America/Halifax:20260126T083000
DTSTAMP:20260421T085754
CREATED:20250920T161616Z
LAST-MODIFIED:20251105T165757Z
UID:10000056-1769414400-1769416200@gracechurchofchrist.faith
SUMMARY:PodCast
DESCRIPTION:Inspired to Inspire you through the gospel of Jesus Christ\nPastor T. Vincent Bryant\nGrace Church of Christ
URL:https://gracechurchofchrist.faith/event/podcast/2026-01-26/
ATTACH;FMTTYPE=image/jpeg:https://gracechurchofchrist.faith/wp-content/uploads/2025/10/Screenshot-2025-10-06-114242.jpg
END:VEVENT
END:VCALENDAR